BEGIN:VCALENDAR
VERSION:2.0
PRODID:-//Nehalem Valley Historical Society - ECPv6.15.18//NONSGML v1.0//EN
CALSCALE:GREGORIAN
METHOD:PUBLISH
X-ORIGINAL-URL:https://nehalemvalleyhistory.org
X-WR-CALDESC:Events for Nehalem Valley Historical Society
REFRESH-INTERVAL;VALUE=DURATION:PT1H
X-Robots-Tag:noindex
X-PUBLISHED-TTL:PT1H
BEGIN:VTIMEZONE
TZID:America/Los_Angeles
BEGIN:DAYLIGHT
TZOFFSETFROM:-0800
TZOFFSETTO:-0700
TZNAME:PDT
DTSTART:20250309T100000
END:DAYLIGHT
BEGIN:STANDARD
TZOFFSETFROM:-0700
TZOFFSETTO:-0800
TZNAME:PST
DTSTART:20251102T090000
END:STANDARD
BEGIN:DAYLIGHT
TZOFFSETFROM:-0800
TZOFFSETTO:-0700
TZNAME:PDT
DTSTART:20260308T100000
END:DAYLIGHT
BEGIN:STANDARD
TZOFFSETFROM:-0700
TZOFFSETTO:-0800
TZNAME:PST
DTSTART:20261101T090000
END:STANDARD
BEGIN:DAYLIGHT
TZOFFSETFROM:-0800
TZOFFSETTO:-0700
TZNAME:PDT
DTSTART:20270314T100000
END:DAYLIGHT
BEGIN:STANDARD
TZOFFSETFROM:-0700
TZOFFSETTO:-0800
TZNAME:PST
DTSTART:20271107T090000
END:STANDARD
END:VTIMEZONE
BEGIN:VEVENT
DTSTART;TZID=America/Los_Angeles:20260117T153000
DTEND;TZID=America/Los_Angeles:20260117T170000
DTSTAMP:20260419T225604
CREATED:20251227T024057Z
LAST-MODIFIED:20251227T024057Z
UID:2068-1768663800-1768669200@nehalemvalleyhistory.org
SUMMARY:Seaside’s Rock ’n’ Roll Riots: 1962–1964
DESCRIPTION:Presented by R.J. Marx \nSaturday\, January 17\, 2026 — 3:30 PMNorth County Recreation District36155 9th Street\, Nehalem \n$10 at the doorAll proceeds benefit NVHS education programs. \nThe Nehalem Valley Historical Society invites you to a fascinating presentation by R.J. Marx\, author of Seaside’s Rock ’n’ Roll Riots: 1962–1964 and former editor of the Seaside Signal and South County reporter for The Astorian. \nThe Riots That Shocked the Coast\nOn Labor Day weekend in 1962\, thousands of young people gathered on the Seaside beach to hear a concert featuring Paul Revere and the Raiders. What began as a weekend of music quickly spiraled into chaos after a downtown fistfight ignited widespread unrest. \nWhat followed was unprecedented on the Oregon Coast: \n\n\nCrowds — often referred to as “wolf packs” — assaulted police with eggs\, bottles\, and stones. \n\n\nThe lifeguard tower was toppled. \n\n\nPolice and firefighters fought back with nightsticks and axe handles. \n\n\nStorefront windows were smashed\, cars were damaged\, and violence spilled into surrounding neighborhoods. \n\n\nThe situation drew national attention\, including interest from the FBI. \n\n\nThe riot of 1962 became the catalyst for two more explosive Labor Day weekends in 1963 and 1964\, forcing Portland police squads to assist local law enforcement. Fire hoses were deployed on the crowds — only to be “slashed to ribbons” by rioters wielding switchblades\, according to reports from The Oregonian. \nA Story That Defined an Era\nThese three years of unrest are chronicled in Marx’s compelling book\, Seaside’s Rock ’n’ Roll Riots 1962–1964: How a Coastal City’s Labor Day Riots Heralded a Decade of Unrest. His presentation brings these dramatic events to life through firsthand reporting\, historic records\, and vivid storytelling. \n\nDate: Saturday\, January 17\, 2026Time: 3:30 PMLocation: North County Recreation District\, 36155 9th Street\, NehalemAdmission: $10 at the door (supports NVHS education programs) \nJoin NVHS and R.J. Marx for an unforgettable look at one of the most unusual and explosive chapters in Oregon Coast history.
URL:https://nehalemvalleyhistory.org/event/seasides-rock-n-roll-riots-1962-1964/
LOCATION:OR
ATTACH;FMTTYPE=image/png:https://nehalemvalleyhistory.org/wp-content/uploads/2025/12/Seaside-Riots-January-2026.png
END:VEVENT
END:VCALENDAR